Workbook

Sheet Export
A1: Matchnr | B1: Speldatum | C1: Starttid | D1: Spelplats | E1: Hemma | F1: Borta | G1: Resultat | H1: Klass | I1: Arrangerande förening | J1: Distrikt | K1: Nivå | L1: Domare 1 | M1: Domare 2
A2: Upptagna | B2: 46284 | C2: 10:50 | D2: Arena Skövde C | E2: IFK Skövde HK Blåvit | F2: HK Lidköping | G2: 29 - 20 | H2: Pojkar - P16 Väst - P16-15 Väst 2 Östra | I2: IFK Skövde HK av 1991 | J2: HF Väst | K2: 7
A3: Upptagna | B3: 46284 | C3: 16:30 | D3: Halmstad Arena A1 | E3: HK Lidköping | F3: OV Helsingborg HK | G3: 18 - 26 | H3: USM F18 - Steg 1 | I3: HK Drott Halmstad | K3: 8
A4: Upptagna | B4: 46285 | C4: 13:30 | D4: Idrottens Hus A, Lidköping | E4: HK Lidköping 2 | F4: Skåre HK | G4: 22 - 10 | H4: Flickor - F16 Väst - F16-15 Väst 2 Nordost | I4: HK Lidköping | J4: HF Väst | K4: 7
A5: Upptagna | B5: 46285 | C5: 11:00 | D5: Halmstad Arena A1 | E5: HK Drott Halmstad | F5: HK Lidköping | G5: 27 - 27 | H5: USM F18 - Steg 1 | I5: HK Drott Halmstad | K5: 8
A6: Upptagna | B6: 46285 | C6: 15:30 | D6: Halmstad Arena A1 | E6: IFK Malmö HF | F6: HK Lidköping | G6: 18 - 25 | H6: USM F18 - Steg 1 | I6: HK Drott Halmstad | K6: 8
A7: Upptagna | B7: 46291 | C7: 16:00 | D7: Idrottens Hus A, Lidköping | E7: HK Lidköping | F7: IF HV Tidaholm | G7: 38 - 32 | H7: Herrar - Herr 3 Väst - Herr 3 Väst Norra | I7: HK Lidköping | J7: HF Väst | K7: 8
A8: Upptagna | B8: 46292 | C8: 13:30 | D8: Idrottens Hus TH 1, Lidköping | E8: HK Lidköping 1 | F8: IK Sävehof 1 | G8: 21 - 15 | H8: Flickor - F16 Väst - F16-15 Väst 1 Vit | I8: HK Lidköping | J8: HF Väst | K8: 7
A9: Upptagna | B9: 46292 | C9: 15:45 | D9: Idrottens Hus TH 1, Lidköping | E9: HK Lidköping 2 | F9: Skövde HF 3 | G9: 23 - 33 | H9: Flickor - F19 Väst - F19-17 Väst 2 Sydost | I9: HK Lidköping | J9: HF Väst | K9: 8
A10: Upptagna | B10: 46296 | C10: 19:00 | D10: Arena Älvhögsborg | E10: KFUM Trollhättan | F10: HK Lidköping | G10: 34 - 28 | H10: Herrar - Herr 3 Väst - Herr 3 Väst Norra | I10: KFUM Trollhättans IA | J10: HF Väst | K10: 8
A11: Upptagna | B11: 46298 | C11: 14:00 | D11: Idrottens Hus A, Lidköping | E11: HK Lidköping | F11: HK Malmö | G11: 32 - 14 | H11: Flickor - F16 - USM F16 - Steg 1 | I11: HK Lidköping | K11: 7
A12: Upptagna | B12: 46298 | C12: 15:30 | D12: Idrottens Hus A, Lidköping | E12: KFUM Kalmar HK | F12: Torslanda HK 1 | G12: 22 - 31 | H12: Flickor - F16 - USM F16 - Steg 1 | I12: HK Lidköping | K12: 7
A13: Upptagna | B13: 46298 | C13: 19:30 | D13: Idrottens Hus A, Lidköping | E13: HK Lidköping | F13: KFUM Kalmar HK | G13: 21 - 20 | H13: Flickor - F16 - USM F16 - Steg 1 | I13: HK Lidköping | K13: 7
A14: Upptagna | B14: 46299 | C14: 09:00 | D14: Idrottens Hus A, Lidköping | E14: Torslanda HK 1 | F14: HK Malmö | G14: 41 - 16 | H14: Flickor - F16 - USM F16 - Steg 1 | I14: HK Lidköping | K14: 7
A15: Upptagna | B15: 46299 | C15: 13:00 | D15: Idrottens Hus A, Lidköping | E15: HK Malmö | F15: KFUM Kalmar HK | G15: 20 - 30 | H15: Flickor - F16 - USM F16 - Steg 1 | I15: HK Lidköping | K15: 7
A16: Upptagna | B16: 46299 | C16: 15:00 | D16: Idrottens Hus A, Lidköping | E16: HK Lidköping | F16: Torslanda HK 1 | G16: 19 - 24 | H16: Flickor - F16 - USM F16 - Steg 1 | I16: HK Lidköping | K16: 7
A17: Upptagna | B17: 46299 | C17: 15:00 | D17: Stenstalidshallen | E17: IFK Kristinehamn HB | F17: HK Lidköping B | G17: 26 - 17 | H17: Herrar - Herr 4 Väst - Herr 4 Väst Östra | I17: IFK Kristinehamn Handboll | J17: HF Väst | K17: 8
A18: Upptagna | B18: 46301 | C18: 17:45 | D18: Arena Skövde C | E18: HP Skövde 90 | F18: HK Lidköping | H18: Pojkar - P16 Väst - P16-15 Väst 2 Östra | I18: HP Skövde 90 | J18: HF Väst | K18: 7
A19: Upptagna | B19: 46304 | C19: 19:30 | D19: Idrottens Hus A, Lidköping | E19: HK Lidköping B | F19: Tibro HK B | H19: Herrar - Herr 4 Väst - Herr 4 Väst Östra | I19: HK Lidköping | J19: HF Väst | K19: 8
A20: 26 5 13605 01 | B20: 46305 | C20: 10:50 | D20: Idrottens Hus TH 1, Lidköping | E20: HK Lidköping 4 | F20: HK Guldkroken Hjo | H20: Flickor - F11 Väst - F11 Väst SD Gul Lätt | I20: HK Lidköping | J20: HF Väst | K20: 3 | L20: F14 | M20: F14
A21: 26 5 13605 02 | B21: 46305 | C21: 11:55 | D21: Idrottens Hus TH 1, Lidköping | E21: HK Guldkroken Hjo | F21: HP Skövde 90 | H21: Flickor - F11 Väst - F11 Väst SD Gul Lätt | I21: HK Lidköping | J21: HF Väst | K21: 3 | L21: F14 | M21: F14
A22: 26 5 13605 03 | B22: 46305 | C22: 13:00 | D22: Idrottens Hus TH 1, Lidköping | E22: HK Lidköping 4 | F22: HP Skövde 90 | H22: Flickor - F11 Väst - F11 Väst SD Gul Lätt | I22: HK Lidköping | J22: HF Väst | K22: 3 | L22: F14 | M22: F14
A23: Upptagna | B23: 46305 | C23: 18:30 | D23: Lindesberg Arena Hall 1 | E23: HK Lidköping | F23: Borlänge HK | H23: Pojkar - P14 - USM P14 - Steg 1 | I23: LIF Lindesberg | K23: 6
A24: Upptagna | B24: 46305 | C24: 11:30 | D24: Idrottens Hus A, Lidköping | E24: HK Lidköping 2 | F24: Tibro HK | H24: Flickor - F16 Väst - F16-15 Väst 2 Nordost | I24: HK Lidköping | J24: HF Väst | K24: 7
A25: Upptagna | B25: 46305 | C25: 14:00 | D25: Idrottens Hus A, Lidköping | E25: HK Lidköping | F25: Kv IK Sport B | H25: Damer - Dam 3 Väst - Dam 3 Väst Norra | I25: HK Lidköping | J25: HF Väst | K25: 8
A26: Upptagna | B26: 46305 | C26: 15:30 | D26: Idrottens Hus A, Lidköping | E26: HK Lidköping | F26: Ale Handboll | H26: Herrar - Herr 3 Väst - Herr 3 Väst Norra | I26: HK Lidköping | J26: HF Väst | K26: 8
A27: 26 5 1335 001 | B27: 46306 | C27: 12:00 | D27: Idrottens Hus A, Lidköping | E27: HK Lidköping 2 | F27: HK Country | H27: Flickor - F14 Väst - F14 Väst SD 2 Sydost (2x20 min) | I27: HK Lidköping | J27: HF Väst | K27: 6 | L27: Herr | M27: Herr
A28: 26 5 1335 002 | B28: 46306 | C28: 13:15 | D28: Idrottens Hus A, Lidköping | E28: HK Country | F28: IFK Bankeryd | H28: Flickor - F14 Väst - F14 Väst SD 2 Sydost (2x20 min) | I28: HK Lidköping | J28: HF Väst | K28: 6 | L28: Herr | M28: Herr
A29: 26 5 1335 003 | B29: 46306 | C29: 14:30 | D29: Idrottens Hus A, Lidköping | E29: HK Lidköping 2 | F29: IFK Bankeryd | H29: Flickor - F14 Väst - F14 Väst SD 2 Sydost (2x20 min) | I29: HK Lidköping | J29: HF Väst | K29: 6 | L29: Herr | M29: Herr
A30: 26 5 1342 005 | B30: 46306 | C30: 10:20 | D30: Idrottens Hus A, Lidköping | E30: HK Lidköping 1 | F30: Skara HF Lila | H30: Flickor - F13 Väst - F13 Väst SD 2 Nordost (2x20 min) | I30: HK Lidköping | J30: HF Väst | K30: 5 | L30: P16 | M30: P16
A31: 26 5 13702 01 | B31: 46306 | C31: 11:00 | D31: Idrottens Hus TH 1, Lidköping | E31: HK Lidköping 2 | F31: Skövde HF Vit | H31: Flickor - F10 Väst Kortplan - F10 Väst SD Cerise | I31: HK Lidköping | J31: HF Väst | K31: 2 | L31: F16-2 | M31: F16-2
A32: 26 5 13702 02 | B32: 46306 | C32: 12:05 | D32: Idrottens Hus TH 1, Lidköping | E32: Skövde HF Vit | F32: Skövde HF Blå | H32: Flickor - F10 Väst Kortplan - F10 Väst SD Cerise | I32: HK Lidköping | J32: HF Väst | K32: 2 | L32: F16-2 | M32: F16-2
A33: 26 5 13702 03 | B33: 46306 | C33: 13:10 | D33: Idrottens Hus TH 1, Lidköping | E33: HK Lidköping 2 | F33: Skövde HF Blå | H33: Flickor - F10 Väst Kortplan - F10 Väst SD Cerise | I33: HK Lidköping | J33: HF Väst | K33: 2 | L33: F16-2 | M33: F16-2
A34: 26 5 13702 04 | B34: 46306 | C34: 15:00 | D34: Idrottens Hus TH 1, Lidköping | E34: HK Lidköping 4 | F34: Tibro HK 2 | H34: Flickor - F10 Väst Kortplan - F10 Väst SD Cerise | I34: HK Lidköping | J34: HF Väst | K34: 2 | L34: F16-2 | M34: F16-2
A35: 26 5 13702 05 | B35: 46306 | C35: 16:05 | D35: Idrottens Hus TH 1, Lidköping | E35: Falköpings AIK Vit | F35: Tibro HK 2 | H35: Flickor - F10 Väst Kortplan - F10 Väst SD Cerise | I35: HK Lidköping | J35: HF Väst | K35: 2 | L35: F16-2 | M35: F16-2
A36: 26 5 13702 06 | B36: 46306 | C36: 17:10 | D36: Idrottens Hus TH 1, Lidköping | E36: HK Lidköping 4 | F36: Falköpings AIK Vit | H36: Flickor - F10 Väst Kortplan - F10 Väst SD Cerise | I36: HK Lidköping | J36: HF Väst | K36: 2 | L36: F16-2 | M36: F16-2
A37: Upptagna | B37: 46306 | C37: 10:00 | D37: Lindesberg Arena Hall 1 | E37: LIF Lindesberg | F37: HK Lidköping | H37: Pojkar - P14 - USM P14 - Steg 1 | I37: LIF Lindesberg | K37: 6
A38: Upptagna | B38: 46306 | C38: 14:15 | D38: Lindesberg Arena Hall 1 | E38: Skåre HK | F38: HK Lidköping | H38: Pojkar - P14 - USM P14 - Steg 1 | I38: LIF Lindesberg | K38: 6
A39: Upptagna | B39: 46306 | C39: 13:00 | D39: Jönköpings Idrottshus Arenan | E39: IFK Bankeryd 1 | F39: HK Lidköping 1 | H39: Flickor - F16 Väst - F16-15 Väst 1 Vit | I39: IFK Bankeryd | J39: HF Väst | K39: 7
A40: Upptagna | B40: 46306 | C40: 13:30 | D40: Nolhagahallen | E40: Alingsås HK 2 | F40: HK Lidköping 2 | H40: Flickor - F19 Väst - F19-17 Väst 2 Sydost | I40: Alingsås HK | J40: HF Väst | K40: 8
A41: 26 5 13907 07 | B41: 46312 | C41: 11:00 | D41: Idrottens Hus TH 1, Lidköping | E41: HK Lidköping 2 | F41: HP Skövde 90 Svart | H41: Flickor - F9 Väst Kortplan - F9 Väst SD Rosa | I41: HK Lidköping | J41: HF Väst | K41: 1 | L41: F13 | M41: F13
A42: 26 5 13907 08 | B42: 46312 | C42: 12:00 | D42: Idrottens Hus TH 1, Lidköping | E42: HP Skövde 90 Svart | F42: Skara HF | H42: Flickor - F9 Väst Kortplan - F9 Väst SD Rosa | I42: HK Lidköping | J42: HF Väst | K42: 1 | L42: F13 | M42: F13
A43: 26 5 13907 09 | B43: 46312 | C43: 13:00 | D43: Idrottens Hus TH 1, Lidköping | E43: HK Lidköping 2 | F43: Skara HF | H43: Flickor - F9 Väst Kortplan - F9 Väst SD Rosa | I43: HK Lidköping | J43: HF Väst | K43: 1 | L43: F13 | M43: F13
A44: Upptagna | B44: 46312 | C44: 14:45 | D44: Lundbyskolans Sporthall A Göteborg | E44: HK Lidköping | F44: HK Ankaret 2 | H44: Flickor - F14 - USM F14 - Steg 1 | I44: Backa HK | K44: 6
A45: Upptagna | B45: 46312 | C45: 18:30 | D45: Lundbyskolans Sporthall A Göteborg | E45: RP IF Linköping 2 | F45: HK Lidköping | H45: Flickor - F14 - USM F14 - Steg 1 | I45: Backa HK | K45: 6
A46: Upptagna | B46: 46312 | C46: 14:00 | D46: Guldkrokshallen A | E46: HK Guldkroken Hjo | F46: HK Lidköping | H46: Damer - Dam 3 Väst - Dam 3 Väst Norra | I46: HK Guldkroken Hjo | J46: HF Väst | K46: 8
A47: 26 5 13602 10 | B47: 46313 | C47: 11:50 | D47: Idrottens Hus TH 1, Lidköping | E47: HK Lidköping 1 | F47: HK Country Svart | H47: Flickor - F11 Väst - F11 Väst SD Grå Svår | I47: HK Lidköping | J47: HF Väst | K47: 3 | L47: P14 | M47: P14
A48: 26 5 1545 013 | B48: 46313 | C48: 11:30 | D48: Rörstrandshallen | E48: HK Lidköping | F48: HK Country Röd | H48: Pojkar - P13 Väst - P13 Väst 2 SD Sydväst (2x20 min) | I48: HK Lidköping | J48: HF Väst | K48: 5 | L48: F16-1 | M48: F16-1
A49: 26 5 1545 014 | B49: 46313 | C49: 12:45 | D49: Rörstrandshallen | E49: HK Country Röd | F49: Tibro HK 1 | H49: Pojkar - P13 Väst - P13 Väst 2 SD Sydväst (2x20 min) | I49: HK Lidköping | J49: HF Väst | K49: 5 | L49: F16-1 | M49: F16-1
A50: 26 5 1545 015 | B50: 46313 | C50: 14:00 | D50: Rörstrandshallen | E50: HK Lidköping | F50: Tibro HK 1 | H50: Pojkar - P13 Väst - P13 Väst 2 SD Sydväst (2x20 min) | I50: HK Lidköping | J50: HF Väst | K50: 5 | L50: F16-1 | M50: F16-1
A51: Upptagna | B51: 46313 | C51: 11:15 | D51: Lundbyskolans Sporthall B Göteborg | E51: HK Lidköping | F51: Redbergslids IK Vit | H51: Flickor - F14 - USM F14 - Steg 1 | I51: Backa HK | K51: 6
A52: Upptagna | B52: 46313 | C52: 13:45 | D52: Lundbyskolans Sporthall B Göteborg | E52: Backa HK | F52: HK Lidköping | H52: Flickor - F14 - USM F14 - Steg 1 | I52: Backa HK | K52: 6
A53: Upptagna | B53: 46313 | C53: 16:00 | D53: Idrottens Hus A, Lidköping | E53: HK Lidköping | F53: Skara HK 2 | H53: Pojkar - P16 Väst - P16-15 Väst 2 Östra | I53: HK Lidköping | J53: HF Väst | K53: 7
A54: Upptagna | B54: 46313 | C54: 13:45 | D54: Idrottens Hus A, Lidköping | E54: HK Lidköping 2 | F54: Anderstorps SK | H54: Flickor - F19 Väst - F19-17 Väst 2 Sydost | I54: HK Lidköping | J54: HF Väst | K54: 8
A55: Upptagna | B55: 46313 | C55: 16:30 | D55: Rimnershallen A | E55: HF Team Kropps | F55: HK Lidköping | H55: Herrar - Herr 3 Väst - Herr 3 Väst Norra | I55: HF Team Kropps | J55: HF Väst | K55: 8
A56: Upptagna | B56: 46316 | C56: 17:45 | D56: Arena Skövde A | E56: HP Skövde 90 Svart | F56: HK Lidköping | H56: Pojkar - P16 Väst - P16-15 Väst 2 Östra | I56: HP Skövde 90 | J56: HF Väst | K56: 7
A57: Upptagna | B57: 46318 | C57: 19:45 | D57: Jönköpings Idrottshus C | E57: IK Cyrus 2 | F57: HK Lidköping B | H57: Herrar - Herr 4 Väst - Herr 4 Väst Östra | I57: IK Cyrus | J57: HF Väst | K57: 8
A58: 26 5 1342 015 | B58: 46319 | C58: 13:00 | D58: Idrottens Hus TH 1, Lidköping | E58: HK Lidköping 1 | F58: IFK Kristinehamn HB | H58: Flickor - F13 Väst - F13 Väst SD 2 Nordost (2x20 min) | I58: HK Lidköping | J58: HF Väst | K58: 5 | L58: Dam | M58: Dam
A59: Upptagna | B59: 46320 | C59: 16:30 | D59: Idrottens Hus A, Lidköping | E59: HK Lidköping 2 | F59: Skara HF F15 Lila | H59: Flickor - F16 Väst - F16-15 Väst 2 Nordost | I59: HK Lidköping | J59: HF Väst | K59: 7
A60: Upptagna | B60: 46320 | C60: 14:00 | D60: Idrottens Hus A, Lidköping | E60: HK Lidköping | F60: IF Hellton U | H60: Damer - Dam 3 Väst - Dam 3 Väst Norra | I60: HK Lidköping | J60: HF Väst | K60: 8
A61: 26 5 13602 12 | B61: 46333 | C61: 15:00 | D61: Rörstrandshallen | E61: HK Lidköping 1 | F61: Skövde HF Grön | H61: Flickor - F11 Väst - F11 Väst SD Grå Svår | I61: HK Lidköping | J61: HF Väst | K61: 3 | L61: F16-1 | M61: F16-1
A62: Upptagna | B62: 46320 | C62: 16:00 | D62: Jönköpings Idrottshus C | E62: IF Hallby HK Blå | F62: HK Lidköping 1 | H62: Flickor - F16 Väst - F16-15 Väst 1 Vit | I62: IF Hallby HK | J62: HF Väst | K62: 7
A63: 26 5 13602 13 | B63: 46333 | C63: 16:00 | D63: Rörstrandshallen | E63: Skövde HF Grön | F63: Skövde HF Blå | H63: Flickor - F11 Väst - F11 Väst SD Grå Svår | I63: HK Lidköping | J63: HF Väst | K63: 3 | L63: F16-1 | M63: F16-1
A64: 26 5 13602 14 | B64: 46333 | C64: 17:00 | D64: Rörstrandshallen | E64: HK Lidköping 1 | F64: Skövde HF Blå | H64: Flickor - F11 Väst - F11 Väst SD Grå Svår | I64: HK Lidköping | J64: HF Väst | K64: 3 | L64: F16-1 | M64: F16-1
A65: Upptagna | B65: 46320 | C65: 10:00 | D65: Skövde Idrottshall | E65: Skövde HF F16 | F65: HK Lidköping 2 | H65: Flickor - F19 Väst - F19-17 Väst 2 Sydost | I65: Skövde HF | J65: HF Väst | K65: 8
A66: Upptagna | B66: 46320 | C66: 16:00 | D66: Arena Skövde C | E66: HKC78 HK | F66: HK Lidköping | H66: Herrar - Herr 3 Väst - Herr 3 Väst Norra | I66: HKC78 Handbollklubb | J66: HF Väst | K66: 8
A67: Upptagna | B67: 46327 | C67: 15:00 | D67: Carl Gustav Arena, Torsby | E67: Torsby IK | F67: HK Lidköping 2 | H67: Flickor - F16 Väst - F16-15 Väst 2 Nordost | I67: Torsby Idrottsklubb | J67: HF Väst | K67: 7
A68: 26 5 13603 21 | B68: 46333 | C68: 11:50 | D68: Idrottens Hus A, Lidköping | E68: HK Lidköping 2 | F68: Skövde HF Svart | H68: Flickor - F11 Väst - F11 Väst SD Grön Svår | I68: HK Lidköping | J68: HF Väst | K68: 3 | L68: F16-2 | M68: F16-2
A69: 26 5 13907 34 | B69: 46333 | C69: 10:45 | D69: Idrottens Hus TH 1, Lidköping | E69: HK Lidköping 3 | F69: Skövde HF Röd | H69: Flickor - F9 Väst Kortplan - F9 Väst SD Rosa | I69: HK Lidköping | J69: HF Väst | K69: 1 | L69: F13 | M69: F13
A70: 26 5 13907 35 | B70: 46333 | C70: 11:50 | D70: Idrottens Hus TH 1, Lidköping | E70: Skövde HF Röd | F70: Skövde HF Svart | H70: Flickor - F9 Väst Kortplan - F9 Väst SD Rosa | I70: HK Lidköping | J70: HF Väst | K70: 1 | L70: F13 | M70: F13
A71: 26 5 13907 36 | B71: 46333 | C71: 12:55 | D71: Idrottens Hus TH 1, Lidköping | E71: HK Lidköping 3 | F71: Skövde HF Svart | H71: Flickor - F9 Väst Kortplan - F9 Väst SD Rosa | I71: HK Lidköping | J71: HF Väst | K71: 1 | L71: F13 | M71: F13
A72: 26 5 15702 12 | B72: 46333 | C72: 17:00 | D72: Idrottens Hus TH 1, Lidköping | E72: HK Lidköping | F72: Skara HK Gul | H72: Pojkar - P10 Väst Kortplan - P10 Väst SD Grå | I72: HK Lidköping | J72: HF Väst | K72: 2 | L72: P14 | M72: P14
A73: 26 5 15702 13 | B73: 46333 | C73: 15:50 | D73: Idrottens Hus TH 1, Lidköping | E73: Skara HK Gul | F73: HK Country Vit | H73: Pojkar - P10 Väst Kortplan - P10 Väst SD Grå | I73: HK Lidköping | J73: HF Väst | K73: 2 | L73: P14 | M73: P14
A74: 26 5 15702 14 | B74: 46333 | C74: 14:45 | D74: Idrottens Hus TH 1, Lidköping | E74: HK Lidköping | F74: HK Country Vit | H74: Pojkar - P10 Väst Kortplan - P10 Väst SD Grå | I74: HK Lidköping | J74: HF Väst | K74: 2 | L74: P14 | M74: P14
A75: Upptagna | B75: 46333 | C75: 16:45 | D75: Idrottens Hus A, Lidköping | E75: HK Lidköping 2 | F75: IFK Bankeryd | H75: Flickor - F19 Väst - F19-17 Väst 2 Sydost | I75: HK Lidköping | J75: HF Väst | K75: 8
A76: Upptagna | B76: 46333 | C76: 14:00 | D76: Idrottens Hus A, Lidköping | E76: HK Lidköping | F76: IFK Hammarö | H76: Herrar - Herr 3 Väst - Herr 3 Väst Norra | I76: HK Lidköping | J76: HF Väst | K76: 8
A77: 26 5 13506 14 | B77: 46334 | C77: 0.41666667 | D77: Idrottens Hus TH 1, Lidköping | E77: HK Lidköping 1 | F77: Falköpings AIK Vit | H77: Flickor - F12 Väst - F12 Väst SD 2 Östra | I77: HK Lidköping | J77: HF Väst | K77: 4 | L77: F14 | M77: F14
A78: 26 5 13506 15 | B78: 46334 | C78: 0.46875 | D78: Idrottens Hus TH 1, Lidköping | E78: Falköpings AIK Vit | F78: IFK Bankeryd 2 | H78: Flickor - F12 Väst - F12 Väst SD 2 Östra | I78: HK Lidköping | J78: HF Väst | K78: 4 | L78: F14 | M78: F14
A79: 26 5 13506 16 | B79: 46334 | C79: 0.52083333 | D79: Idrottens Hus TH 1, Lidköping | E79: HK Lidköping 1 | F79: IFK Bankeryd 2 | H79: Flickor - F12 Väst - F12 Väst SD 2 Östra | I79: HK Lidköping | J79: HF Väst | K79: 4 | L79: F14 | M79: F14
A80: 26 5 13604 22 | B80: 46334 | C80: 12:00 | D80: Rörstrandshallen | E80: HK Lidköping 3 | F80: Eksjö BK 1 | H80: Flickor - F11 Väst - F11 Väst SD Citrongul Lätt | I80: HK Lidköping | J80: HF Väst | K80: 3 | L80: Herr | M80: Herr
A81: 26 5 13604 23 | B81: 46334 | C81: 13:05 | D81: Rörstrandshallen | E81: Eksjö BK 1 | F81: Eksjö BK 2 | H81: Flickor - F11 Väst - F11 Väst SD Citrongul Lätt | I81: HK Lidköping | J81: HF Väst | K81: 3 | L81: Herr | M81: Herr
A82: 26 5 13604 24 | B82: 46334 | C82: 14:10 | D82: Rörstrandshallen | E82: HK Lidköping 3 | F82: Eksjö BK 2 | H82: Flickor - F11 Väst - F11 Väst SD Citrongul Lätt | I82: HK Lidköping | J82: HF Väst | K82: 3 | L82: Herr | M82: Herr
A83: 26 5 15603 17 | B83: 46334 | C83: 10:45 | D83: Idrottens Hus TH 1, Lidköping | E83: HK Lidköping 2 | F83: IFK Mullsjö | H83: Pojkar - P11 Väst - P11 Väst SD Grön Lätt | I83: HK Lidköping | J83: HF Väst | K83: 3 | L83: P14 | M83: P14
A84: 26 5 15603 18 | B84: 46334 | C84: 11:50 | D84: Idrottens Hus TH 1, Lidköping | E84: IFK Mullsjö | F84: IFK Bankeryd 1 | H84: Pojkar - P11 Väst - P11 Väst SD Grön Lätt | I84: HK Lidköping | J84: HF Väst | K84: 3 | L84: P14 | M84: P14
A85: 26 5 15603 19 | B85: 46334 | C85: 12:55 | D85: Idrottens Hus TH 1, Lidköping | E85: HK Lidköping 2 | F85: IFK Bankeryd 1 | H85: Pojkar - P11 Väst - P11 Väst SD Grön Lätt | I85: HK Lidköping | J85: HF Väst | K85: 3 | L85: P14 | M85: P14
A86: Upptagna | B86: 46334 | C86: 15:45 | D86: Idrottens Hus A, Lidköping | E86: HK Lidköping 1 | F86: Önnereds HK F16 1 | H86: Flickor - F16 Väst - F16-15 Väst 1 Vit | I86: HK Lidköping | J86: HF Väst | K86: 7
A87: Upptagna | B87: 46337 | C87: 20:00 | D87: Idrottens Hus A, Lidköping | E87: HK Lidköping | F87: Göteborg Finest IK | H87: Damer - Dam 3 Väst - Dam 3 Väst Norra | I87: HK Lidköping | J87: HF Väst | K87: 8
A88: 26 5 17210 01 | B88: 46340 | C88: 10:40 | D88: Idrottens Hus TH 1, Lidköping | E88: HK Lidköping 3 | F88: Skara HF F8 Rosa | H88: Flickor - F8-F9 Väst Minihandboll - Omgång 2 | I88: HK Lidköping | J88: HF Väst | K88: 1 | L88: P13 | M88: P13
A89: 26 5 17210 02 | B89: 46340 | C89: 10:40 | D89: Idrottens Hus TH 1, Lidköping | E89: HP Skövde 90 Svart | F89: Skara HF F8 Svart | H89: Flickor - F8-F9 Väst Minihandboll - Omgång 2 | I89: HK Lidköping | J89: HF Väst | K89: 1 | L89: F13 | M89: F13
A90: Upptagna | B90: 46334 | C90: 16:00 | D90: Sundsta Sporthall | E90: IF Hellton/HK Brukspôjkera | F90: HK Lidköping 2 | H90: Flickor - F16 Väst - F16-15 Väst 2 Nordost | I90: IF Hellton | J90: HF Väst | K90: 7
A91: Upptagna | B91: 46334 | C91: 17:30 | D91: Lundenhallen, Göteborg | E91: Rosendals IK | F91: HK Lidköping | H91: Damer - Dam 3 Väst - Dam 3 Väst Norra | I91: Rosendals IK | J91: HF Väst | K91: 8
A92: Upptagna | B92: 46335 | C92: 18:30 | D92: Vilanhallen 2 | E92: Skara HF F15 Vit | F92: HK Lidköping 1 | H92: Flickor - F16 Väst - F16-15 Väst 1 Vit | I92: Skara HF | J92: HF Väst | K92: 7
A93: 26 5 17210 03 | B93: 46340 | C93: 11:00 | D93: Idrottens Hus TH 1, Lidköping | E93: HK Lidköping 2 | F93: HK Country Röd | H93: Flickor - F8-F9 Väst Minihandboll - Omgång 2 | I93: HK Lidköping | J93: HF Väst | K93: 1 | L93: P13 | M93: P13
A94: Upptagna | B94: 46339 | C94: 20:00 | D94: Jönköpings Idrottshus D | E94: IK Cyrus | F94: HK Lidköping | H94: Herrar - Herr 3 Väst - Herr 3 Väst Norra | I94: IK Cyrus | J94: HF Väst | K94: 8
A95: 26 5 17210 04 | B95: 46340 | C95: 11:00 | D95: Idrottens Hus TH 1, Lidköping | E95: Skara HF F8 Lila | F95: Skövde HF Röd | H95: Flickor - F8-F9 Väst Minihandboll - Omgång 2 | I95: HK Lidköping | J95: HF Väst | K95: 1 | L95: F13 | M95: F13
A96: 26 5 17210 05 | B96: 46340 | C96: 11:20 | D96: Idrottens Hus TH 1, Lidköping | E96: HK Lidköping 1 | F96: Skara HF F8 Vit | H96: Flickor - F8-F9 Väst Minihandboll - Omgång 2 | I96: HK Lidköping | J96: HF Väst | K96: 1 | L96: P13 | M96: P13
A97: 26 5 17210 06 | B97: 46340 | C97: 11:20 | D97: Idrottens Hus TH 1, Lidköping | E97: Skövde HF Vit | F97: HK Country Svart | H97: Flickor - F8-F9 Väst Minihandboll - Omgång 2 | I97: HK Lidköping | J97: HF Väst | K97: 1 | L97: F13 | M97: F13
A98: 26 5 17210 07 | B98: 46340 | C98: 11:40 | D98: Idrottens Hus TH 1, Lidköping | E98: Skara HF F8 Rosa | F98: Skövde HF Svart | H98: Flickor - F8-F9 Väst Minihandboll - Omgång 2 | I98: HK Lidköping | J98: HF Väst | K98: 1 | L98: P13 | M98: P13
A99: 26 5 17210 08 | B99: 46340 | C99: 11:40 | D99: Idrottens Hus TH 1, Lidköping | E99: Skara HF F8 Svart | F99: HK Lidköping 3 | H99: Flickor - F8-F9 Väst Minihandboll - Omgång 2 | I99: HK Lidköping | J99: HF Väst | K99: 1 | L99: F13 | M99: F13
A100: 26 5 17210 09 | B100: 46340 | C100: 12:00 | D100: Idrottens Hus TH 1, Lidköping | E100: HK Country Röd | F100: HP Skövde 90 Gul | H100: Flickor - F8-F9 Väst Minihandboll - Omgång 2 | I100: HK Lidköping | J100: HF Väst | K100: 1 | L100: P13 | M100: P13
...

Sheet Metadata
A2: Lag | B2: Nivå | C2: Antal matcher
A3: F8 | B3: 1
A4: F9 | B4: 1 | C4: 18 | D4: =C4/C18 -> 0.074380165
A5: F8-F9 | B5: 1 | C5: 21 | D5: =C5/C18 -> 0.08677686
A6: F10 | B6: 2 | C6: 34 | D6: =C6/C18 -> 0.14049587
A7: F11 | B7: 3 | C7: 37 | D7: =C7/C18 -> 0.15289256
A8: F12 | B8: 4 | C8: 18 | D8: =C8/C18 -> 0.074380165
A9: F13 | B9: 5 | C9: 19 | D9: =C9/C18 -> 0.078512397
A10: F14 | B10: 6 | C10: 10 | D10: =C10/C18 -> 0.041322314
A11: P8-P9 | B11: 1 | C11: 18 | D11: =C11/C18 -> 0.074380165
A12: P9 | B12: 1 | C12: 15 | D12: =C12/C18 -> 0.061983471
A13: P10 | B13: 2 | C13: 10 | D13: =C13/C18 -> 0.041322314
A14: P11 | B14: 3 | C14: 21 | D14: =C14/C18 -> 0.08677686
A15: P12 | B15: 4 | C15: 0 | D15: =C15/C18 -> 0
A16: P13 | B16: 5 | C16: 12 | D16: =C16/C18 -> 0.049586777
A17: P14 | B17: 6 | C17: 9 | D17: =C17/C18 -> 0.037190083
C18: =SUM(C4:C17) -> 242
A20: De som ska döma, ska minst vara 2 nivåer högre
A21: F13 och P13 ska endast döma F8, P8, F9, P9 och F8-F9 (Nivå 1)
A22: USM F18, F19 och damer är samma trupp av de som ska döma, vilket hör till "Dam"
A23: F16-1 och F16-2 är de som ska tilldelas domaruppdrag för F16
A24: Om det är ett sammandrag av 3 lager där alla möter alla samma datum i samma hall så ska det vara samma domare som dömer de tre matcherna, det kan vara två sammandrag samma dag men då är det inte samma lag som spelar båda
A26: Lag som dömer | B26: Antal spelare
A27: P13 | B27: 14 | C27: =B27/B36 -> 0.079096045
A28: F13 | B28: 35 | C28: =B28/B36 -> 0.19774011
A29: P14 | B29: 17 | C29: =B29/B36 -> 0.096045198
A30: F14 | B30: 18 | C30: =B30/B36 -> 0.10169492
A31: P16 | B31: 8 | C31: =B31/B36 -> 0.04519774
A32: F16-1 | B32: 15 | C32: =B32/B36 -> 0.084745763
A33: F16-2 | B33: 15 | C33: =B33/B36 -> 0.084745763
A34: Dam | B34: 37 | C34: =B34/B36 -> 0.20903955
A35: Herr | B35: 18 | C35: =B35/B36 -> 0.10169492
B36: =SUM(B27:B35) -> 177

Sheet Sammanställning
A1: Domarfördelning 2026/27 (Ver4)
A3: Domarlag | B3: Antal spelare | C3: Andel spelare | D3: Dömda matcher | E3: Andel matcher | F3: Matcher/spelare | G3: Uppdrag (dagar)
A4: P13 | B4: =Metadata!B27 -> 14 | C4: =B4/SUM($B$4:$B$12) -> 0.079096045 | D4: =COUNTIF(Export!$L:$L,A4) -> 13 | E4: =D4/SUM($D$4:$D$12) -> 0.063414634 | F4: =D4/B4 -> 0.92857143 | G4: 3
A5: F13 | B5: =Metadata!B28 -> 35 | C5: =B5/SUM($B$4:$B$12) -> 0.19774011 | D5: =COUNTIF(Export!$L:$L,A5) -> 27 | E5: =D5/SUM($D$4:$D$12) -> 0.13170732 | F5: =D5/B5 -> 0.77142857 | G5: 7
A6: P14 | B6: =Metadata!B29 -> 17 | C6: =B6/SUM($B$4:$B$12) -> 0.096045198 | D6: =COUNTIF(Export!$L:$L,A6) -> 21 | E6: =D6/SUM($D$4:$D$12) -> 0.10243902 | F6: =D6/B6 -> 1.2352941 | G6: 9
A7: F14 | B7: =Metadata!B30 -> 18 | C7: =B7/SUM($B$4:$B$12) -> 0.10169492 | D7: =COUNTIF(Export!$L:$L,A7) -> 24 | E7: =D7/SUM($D$4:$D$12) -> 0.11707317 | F7: =D7/B7 -> 1.3333333 | G7: 9
A8: P16 | B8: =Metadata!B31 -> 8 | C8: =B8/SUM($B$4:$B$12) -> 0.04519774 | D8: =COUNTIF(Export!$L:$L,A8) -> 13 | E8: =D8/SUM($D$4:$D$12) -> 0.063414634 | F8: =D8/B8 -> 1.625 | G8: 7
A9: F16-1 | B9: =Metadata!B32 -> 15 | C9: =B9/SUM($B$4:$B$12) -> 0.084745763 | D9: =COUNTIF(Export!$L:$L,A9) -> 20 | E9: =D9/SUM($D$4:$D$12) -> 0.097560976 | F9: =D9/B9 -> 1.3333333 | G9: 8
A10: F16-2 | B10: =Metadata!B33 -> 15 | C10: =B10/SUM($B$4:$B$12) -> 0.084745763 | D10: =COUNTIF(Export!$L:$L,A10) -> 20 | E10: =D10/SUM($D$4:$D$12) -> 0.097560976 | F10: =D10/B10 -> 1.3333333 | G10: 8
A11: Dam | B11: =Metadata!B34 -> 37 | C11: =B11/SUM($B$4:$B$12) -> 0.20903955 | D11: =COUNTIF(Export!$L:$L,A11) -> 43 | E11: =D11/SUM($D$4:$D$12) -> 0.2097561 | F11: =D11/B11 -> 1.1621622 | G11: 11
A12: Herr | B12: =Metadata!B35 -> 18 | C12: =B12/SUM($B$4:$B$12) -> 0.10169492 | D12: =COUNTIF(Export!$L:$L,A12) -> 24 | E12: =D12/SUM($D$4:$D$12) -> 0.11707317 | F12: =D12/B12 -> 1.3333333 | G12: 10
A13: Totalt | B13: =SUM(B4:B12) -> 177 | D13: =SUM(D4:D12) -> 205 | G13: =SUM(G4:G12) -> 72
A14: Öppna (ingen ledig behörig domare) | D14: =COUNTIF(Export!$L:$L,"ÖPPEN") -> 8
A15: Ej tilldelade bortamatcher (arrangör dömer) | D15: 28
A18: Antal dömda matcher per domarlag och klass
A19: Domarlag | B19: F9 | C19: F8-F9 | D19: F10 | E19: F11 | F19: F12 | G19: F13 | H19: F14 | I19: P9 | J19: P10 | K19: P11 | L19: P13 | M19: P14 | N19: Summa
A20: P13 | B20: 3 | C20: 10 | I20: 1 | N20: =SUM(B20:M20) -> 14
A21: F13 | B21: 15 | C21: 11 | I21: 1 | N21: =SUM(B21:M21) -> 27
A22: P14 | D22: 4 | E22: 4 | F22: 3 | J22: 3 | K22: 7 | N22: =SUM(B22:M22) -> 21
A23: F14 | D23: 5 | E23: 10 | F23: 3 | I23: 3 | K23: 3 | N23: =SUM(B23:M23) -> 24
A24: P16 | D24: 4 | E24: 4 | F24: 1 | G24: 2 | J24: 1 | K24: 1 | N24: =SUM(B24:M24) -> 13
A25: F16-1 | D25: 1 | E25: 4 | G25: 3 | K25: 6 | L25: 6 | N25: =SUM(B25:M25) -> 20
A26: F16-2 | D26: 8 | E26: 5 | F26: 2 | G26: 4 | K26: 1 | N26: =SUM(B26:M26) -> 20
A27: Dam | D27: 9 | E27: 6 | F27: 6 | G27: 7 | H27: 3 | J27: 6 | K27: 3 | M27: 3 | N27: =SUM(B27:M27) -> 43
A28: Herr | D28: 3 | E28: 4 | F28: 3 | G28: 3 | H28: 7 | L28: 3 | M28: 1 | N28: =SUM(B28:M28) -> 24
A31: Spridning över tid: dömda matcher per månad
A32: Domarlag | B32: okt 2026 | C32: nov 2026 | D32: dec 2026 | E32: jan 2027 | F32: feb 2027 | G32: mar 2027
A33: P13 | B33: 1 | C33: 10 | D33: 3
A34: F13 | B34: 6 | C34: 14 | D34: 7
A35: P14 | B35: 1 | C35: 9 | D35: 1 | E35: 3 | F35: 4 | G35: 3
A36: F14 | B36: 3 | C36: 6 | D36: 2 | E36: 7 | F36: 3 | G36: 3
A37: P16 | B37: 1 | C37: 1 | D37: 1 | E37: 7 | F37: 3
A38: F16-1 | B38: 3 | C38: 6 | D38: 3 | E38: 3 | F38: 4 | G38: 1
A39: F16-2 | B39: 6 | C39: 1 | D39: 2 | E39: 3 | F39: 6 | G39: 2
A40: Dam | B40: 1 | C40: 18 | D40: 3 | E40: 3 | F40: 6 | G40: 12
A41: Herr | B41: 3 | C41: 7 | E41: 3 | F41: 2 | G41: 9
A44: Öppna uppdrag – behöriga lag spelar själva samma dag
A45: Datum | B45: Tid | C45: Klass | D45: Typ | E45: Matcher | F45: Behöriga lag och deras egna matcher den dagen
A46: 46403 | B46: 13:30–14:30 | C46: P14 | D46: Enkel | E46: 1 | F46: Dam: 17:00 Arena Älvhögsborg | Herr: 14:00 Idrottens HUs TH 2, Lidköping
A47: 46410 | B47: 13:00–16:00 | C47: P14 | D47: Sammandrag | E47: 3 | F47: Dam: 11:15 Idrottens Hus A, Lidköping | Herr: 14:00 Guldkrokshallen A
A48: 46411 | B48: 12:00–15:00 | C48: P13 | D48: Sammandrag | E48: 3 | F48: P16: 10:45 Arena Skövde C | F16-1: heldag Flickor - F16 - USM F16 - | F16-2: heldag Flickor - F16 - USM F16 - | Dam: 14:00 Idrottens Hus A, Lidköping | Herr: 17:00 Idrottens Hus A, Lidköping
A49: 46424 | B49: 17:15–18:15 | C49: P14 | D49: Enkel | E49: 1 | F49: Dam: 17:30 Attarpshallen A | Herr: 16:30 Tibro Sporthall A
A51: Domaruppdrag (sammandrag hålls ihop)
A52: Datum | B52: Tid | C52: Spelplats | D52: Klass | E52: Typ | F52: Matcher | G52: Domarlag
A53: 46305 | B53: 10:50 | C53: Idrottens Hus TH 1, Lidköping | D53: F11 | E53: Sammandrag | F53: 3 | G53: F14
A54: 46306 | B54: 10:20 | C54: Idrottens Hus A, Lidköping | D54: F13 | E54: Enkel | F54: 1 | G54: P16
A55: 46306 | B55: 11:00 | C55: Idrottens Hus TH 1, Lidköping | D55: F10 | E55: Sammandrag | F55: 3 | G55: F16-2
A56: 46306 | B56: 12:00 | C56: Idrottens Hus A, Lidköping | D56: F14 | E56: Sammandrag | F56: 3 | G56: Herr
A57: 46306 | B57: 15:00 | C57: Idrottens Hus TH 1, Lidköping | D57: F10 | E57: Sammandrag | F57: 3 | G57: F16-2
A58: 46312 | B58: 11:00 | C58: Idrottens Hus TH 1, Lidköping | D58: F9 | E58: Sammandrag | F58: 3 | G58: F13
A59: 46312 | B59: 16:00 | C59: Idrottens Hus TH 1, Lidköping | D59: P9 | E59: Enkel | F59: 1 | G59: P13
A60: 46313 | B60: 11:30 | C60: Rörstrandshallen | D60: P13 | E60: Sammandrag | F60: 3 | G60: F16-1
A61: 46313 | B61: 11:50 | C61: Idrottens Hus TH 1, Lidköping | D61: F11 | E61: Enkel | F61: 1 | G61: P14
A62: 46319 | B62: 13:00 | C62: Idrottens Hus TH 1, Lidköping | D62: F13 | E62: Enkel | F62: 1 | G62: Dam
A63: 46320 | B63: 12:00 | C63: Idrottens Hus TH 1, Lidköping | D63: F9 | E63: Sammandrag | F63: 3 | G63: F13
A64: 46333 | B64: 10:45 | C64: Idrottens Hus TH 1, Lidköping | D64: F9 | E64: Sammandrag | F64: 3 | G64: F13
... A141: 46467 | B141: 14:45 | C141: Idrottens Hus TH 1, Lidköping | D141: F13 | E141: Sammandrag | F141: 3 | G141: Dam
A144: Antaganden:
A145: Nivå på domarlagen enligt filen: P13/F13 5, P14/F14 6, P16/F16 7, Dam/Herr 8. Domarlaget ska vara minst 2 nivåer över matchen, så F14/P14 kan bara dömas av Dam och Herr.
A146: P13/F13 dömer endast nivå 1. Upptagen = laget spelar samma dag (USM, serie, spelarutbildning).
A147: Dam omfattar Damer, F19 och USM F18. F16 Väst 1 = F16-1, F16 Väst 2 = F16-2, USM F16 = båda.
A148: Bortamatcher där annan förening arrangerar (P8-P9, P9 SD Svart borta) tilldelas inte domare.
A149: Sammandrag (3 lag, alla möter alla) döms av samma lag. Minihandbollen 14/11 är delad i 4 block (2 planer × för/eftermiddag).
